BEGIN:VCALENDAR
VERSION:2.0
PRODID:-//wp-events-plugin.com//7.2.3.1//EN
TZID:Australia/Melbourne
X-WR-TIMEZONE:Australia/Melbourne
BEGIN:VEVENT
UID:82@wamc1950.com
DTSTART;TZID=Asia/Singapore:20260417T100000
DTEND;TZID=Asia/Singapore:20260419T190000
DTSTAMP:20260220T024029Z
URL:https://wamc1950.com/events/18th-philippine-food-expo-2026-2/
SUMMARY:18th Philippine Food Expo 2026
DESCRIPTION:Philippine Food Expo (PFE) 2026 – Feast of Philippine Flavors
  to the World\nDates: April 17–19\, 2026\nVenue: World Trade Center Mani
 la\n\nThe Philippine Food Expo (PFE) 2026 is the country’s premier food\
 , beverage\, agriculture\, and export industry event\, designed to showcas
 e the richness\, diversity\, and global potential of Philippine flavors. W
 ith the theme “Feast of Philippine Flavors to the World\,” PFE 2026 hi
 ghlights the unique culinary heritage of the Philippines while positioning
  Filipino products and brands for both domestic and international markets.
  The expo provides a dynamic platform for industry leaders\, entrepreneurs
 \, MSMEs\, exporters\, buyers\, and food enthusiasts to come together and 
 celebrate the best of Filipino cuisine\, culinary innovation\, and food bu
 siness development.\n\nTaking place on April 17–19\, 2026\, at the World
  Trade Center Metro Manila\, the three-day event promises an immersive and
  comprehensive experience. Attendees can participate in seminars and works
 hops aimed at empowering aspiring entrepreneurs and industry players. Thes
 e sessions will cover key topics such as food business strategies\, export
  readiness\, market trends\, and culinary innovation\, equipping participa
 nts with the knowledge and skills to become leaders in the food and bevera
 ge industry.\n\nA major highlight of PFE 2026 is the live cooking demonstr
 ations and guest appearances by renowned chefs from all over the Philippin
 es. These celebrated culinary experts will showcase their skills and signa
 ture dishes\, offering inspiration\, techniques\, and insights to aspiring
  chefs and food enthusiasts alike. Alongside these activities\, the Nation
 al Culinary Challenge brings together participating schools to compete in 
 multiple categories featuring Davao-inspired flavors and other regional sp
 ecialties. This competition emphasizes creativity\, technical skill\, and 
 the celebration of local culinary heritage\, fostering the next generation
  of culinary talent.\n\nPFE 2026 also provides exhibitor showcases\, produ
 ct launches\, and networking opportunities\, connecting local and internat
 ional buyers with Filipino brands and innovative food products. Exhibitors
  will have the opportunity to present their latest offerings\, meet key in
 dustry stakeholders\, and gain insights into market trends. From tradition
 al Filipino favorites to modern culinary innovations\, the expo highlights
  the full spectrum of the Philippine food industry while promoting trade\,
  business growth\, and collaboration.\n\nIn addition\, the event offers op
 portunities for attendees to experience immersive activities that engage a
 ll senses. These include tasting sessions\, interactive displays\, and pro
 duct demonstrations\, providing a complete experience of Filipino flavors\
 , culinary artistry\, and business innovation. Whether you are a buyer\, e
 ntrepreneur\, chef\, student\, or food enthusiast\, PFE 2026 offers someth
 ing for everyone\, making it the ultimate platform to explore\, learn\, an
 d celebrate the Philippines’ vibrant food and beverage sector.\n\nMark y
 our calendars and join us at PFE 2026 to experience seminars\, chef demons
 trations\, the National Culinary Challenge\, exhibitor showcases\, and net
 working opportunities. Follow the PFE journey on our social media platform
 s and website to stay updated on the latest event announcements\, featured
  exhibitors\, and program highlights.\n\nFor inquiries about participating
  as an exhibitor\, sponsoring\, or partnering with PFE 2026\, do not hesit
 ate to contact Cut Unlimited\, Inc. via email at info@eventsbycut.com.\n\n
 Don’t miss the chance to be part of the Philippines’ largest celebrati
 on of food\, flavors\, and culinary innovation\, as we showcase the best o
 f Philippine cuisine to the world!
CATEGORIES:Festival
LOCATION:World Trade Center\,  2/F WTCMM Building\, Diosdado Macapagal Blvd
 \, corner Sen. Gil J. Puyat Ave\, Pasay City\, 1300 Metro Manila\, Pasay\,
  Metro Manila\, 1300\, NCR\, Philippines
X-APPLE-STRUCTURED-LOCATION;VALUE=URI;X-ADDRESS= 2/F WTCMM Building\, Diosd
 ado Macapagal Blvd\, corner Sen. Gil J. Puyat Ave\, Pasay City\, 1300 Metr
 o Manila\, Pasay\, Metro Manila\, 1300\, NCR\, Philippines;X-APPLE-RADIUS=
 100;X-TITLE=World Trade Center:geo:0,0
END:VEVENT
BEGIN:VTIMEZONE
TZID:Asia/Singapore
X-LIC-LOCATION:Asia/Singapore
BEGIN:STANDARD
DTSTART:20250417T100000
TZOFFSETFROM:+0800
TZOFFSETTO:+0800
TZNAME:+08
END:STANDARD
END:VTIMEZONE
END:VCALENDAR