BEGIN:VCALENDAR
VERSION:2.0
PRODID:-//wp-events-plugin.com//7.2.3.1//EN
TZID:Australia/Melbourne
X-WR-TIMEZONE:Australia/Melbourne
BEGIN:VEVENT
UID:80@wamc1950.com
DTSTART:20260417T100000Z
DTEND:20260419T190000Z
DTSTAMP:20260216T063834Z
URL:https://wamc1950.com/events/18th-philippine-food-expo/
SUMMARY:18th Philippine Food Expo
DESCRIPTION:Join Philippine Food Expo 2026\, "Feast of Philippine Flavors t
 o the World" on April 17–19 at World Trade Center Manila: seminars\, che
 f demos\, culinary competitions\, exhibitor showcases\, &amp\; networking 
 opportunities.\n\n&nbsp\;\n\nPhilippine Food Expo (PFE) 2026 – Feast of 
 Philippine Flavors to the World\nDates: April 17–19\, 2026\nVenue: World
  Trade Center Metro Manila\n\nThe Philippine Food Expo (PFE) 2026 is the c
 ountry’s premier food\, beverage\, agriculture\, and export industry eve
 nt\, designed to showcase the richness\, diversity\, and global potential 
 of Philippine flavors. With the theme “Feast of Philippine Flavors to th
 e World\,” PFE 2026 highlights the unique culinary heritage of the Phili
 ppines while positioning Filipino products and brands for both domestic an
 d international markets. The expo provides a dynamic platform for industry
  leaders\, entrepreneurs\, MSMEs\, exporters\, buyers\, and food enthusias
 ts to come together and celebrate the best of Filipino cuisine\, culinary 
 innovation\, and food business development.\n\nTaking place on April 17–
 19\, 2026\, at the World Trade Center Metro Manila\, the three-day event p
 romises an immersive and comprehensive experience. Attendees can participa
 te in seminars and workshops aimed at empowering aspiring entrepreneurs an
 d industry players. These sessions will cover key topics such as food busi
 ness strategies\, export readiness\, market trends\, and culinary innovati
 on\, equipping participants with the knowledge and skills to become leader
 s in the food and beverage industry.\n\nA major highlight of PFE 2026 is t
 he live cooking demonstrations and guest appearances by renowned chefs fro
 m all over the Philippines. These celebrated culinary experts will showcas
 e their skills and signature dishes\, offering inspiration\, techniques\, 
 and insights to aspiring chefs and food enthusiasts alike. Alongside these
  activities\, the National Culinary Challenge brings together participatin
 g schools to compete in multiple categories featuring Davao-inspired flavo
 rs and other regional specialties. This competition emphasizes creativity\
 , technical skill\, and the celebration of local culinary heritage\, foste
 ring the next generation of culinary talent.\n\nPFE 2026 also provides exh
 ibitor showcases\, product launches\, and networking opportunities\, conne
 cting local and international buyers with Filipino brands and innovative f
 ood products. Exhibitors will have the opportunity to present their latest
  offerings\, meet key industry stakeholders\, and gain insights into marke
 t trends. From traditional Filipino favorites to modern culinary innovatio
 ns\, the expo highlights the full spectrum of the Philippine food industry
  while promoting trade\, business growth\, and collaboration.\n\nIn additi
 on\, the event offers opportunities for attendees to experience immersive 
 activities that engage all senses. These include tasting sessions\, intera
 ctive displays\, and product demonstrations\, providing a complete experie
 nce of Filipino flavors\, culinary artistry\, and business innovation. Whe
 ther you are a buyer\, entrepreneur\, chef\, student\, or food enthusiast\
 , PFE 2026 offers something for everyone\, making it the ultimate platform
  to explore\, learn\, and celebrate the Philippines’ vibrant food and be
 verage sector.\n\nMark your calendars and join us at PFE 2026 to experienc
 e seminars\, chef demonstrations\, the National Culinary Challenge\, exhib
 itor showcases\, and networking opportunities. Follow the PFE journey on o
 ur social media platforms and website to stay updated on the latest event 
 announcements\, featured exhibitors\, and program highlights.\n\nFor inqui
 ries about participating as an exhibitor\, sponsoring\, or partnering with
  PFE 2026\, do not hesitate to contact Cut Unlimited\, Inc. via email at i
 nfo@eventsbycut.com.\n\nDon’t miss the chance to be part of the Philippi
 nes’ largest celebration of food\, flavors\, and culinary innovation\, a
 s we showcase the best of Philippine cuisine to the world!
CATEGORIES:Competition,Exhibition,Food
LOCATION:World Trade Center Metro Manila\, Building\, Sen. Gil J. Puyat Ave
 . cor. Diosdado Macapagal Blvd\, Pasay City\, Philippines\, 1300\, NCR\, P
 hilippines
X-APPLE-STRUCTURED-LOCATION;VALUE=URI;X-ADDRESS=Building\, Sen. Gil J. Puya
 t Ave. cor. Diosdado Macapagal Blvd\, Pasay City\, Philippines\, 1300\, NC
 R\, Philippines;X-APPLE-RADIUS=100;X-TITLE=World Trade Center Metro Manila
 :geo:0,0
END:VEVENT
END:VCALENDAR