BEGIN:VCALENDAR
VERSION:2.0
PRODID:-//wp-events-plugin.com//7.2.3.1//EN
TZID:Australia/Melbourne
X-WR-TIMEZONE:Australia/Melbourne
BEGIN:VEVENT
UID:45@wamc1950.com
DTSTART;VALUE=DATE:20241130
DTEND;VALUE=DATE:20241210
DTSTAMP:20241113T021312Z
URL:https://wamc1950.com/events/gastronomic-days-of-the-pote-de-turon-mier
 es/
SUMMARY:Gastronomic days of the Pote de Turón. Mieres
DESCRIPTION:The Valley of Turón hosts its Gastronomic Days of Pote\, a ga
 stronomic event with strong roots in Asturias\, which is held to coincide 
 with the feast of Santa Bárbara.\n\nThe uniqueness of this dish gives it 
 its own identity and name\, Pote minero de Turón. This event has been hel
 d for more than twenty-five years and coincides with the feast of Santa B
 árbara\, the patron saint of miners. It is also held in one of the most r
 epresentative valleys of mining and industrial heritage in Asturias\, the 
 natural environment of which has been declared a protected landscape of th
 e mining basins.\n\nThis event has been declared a Festival of Tourist In
 terest of the Principality of Asturias.
CATEGORIES:Festival,Food,Hospitality
END:VEVENT
END:VCALENDAR