BEGIN:VCALENDAR
VERSION:2.0
PRODID:-//wp-events-plugin.com//7.2.3.1//EN
TZID:Australia/Melbourne
X-WR-TIMEZONE:Australia/Melbourne
BEGIN:VEVENT
UID:78@wamc1950.com
DTSTART;VALUE=DATE:20250923
DTEND;VALUE=DATE:20250924
DTSTAMP:20250923T134319Z
URL:https://wamc1950.com/events/gm4kcf/
SUMMARY:gm4kcf
DESCRIPTION:ax40qn
CATEGORIES:Travel
LOCATION:https://graph.org/Get-your-BTC-09-11
END:VEVENT
END:VCALENDAR