BEGIN:VCALENDAR
VERSION:2.0
PRODID:-//wp-events-plugin.com//7.2.3.1//EN
TZID:Australia/Melbourne
X-WR-TIMEZONE:Australia/Melbourne
BEGIN:VEVENT
UID:6@wamc1950.com
DTSTART;VALUE=DATE:20240729
DTEND;VALUE=DATE:20240731
DTSTAMP:20240717T031848Z
URL:https://wamc1950.com/events/the-pie-live-asia-pacific/
SUMMARY:The Pie Live: Asia Pacific
DESCRIPTION:As Australia becomes an increasingly popular destination for st
 udents and the country’s institutions continue to extend their global re
 ach\, this event connects everyone playing a part\, including universities
 \, colleges and VET providers\, and language learning schools.\nThe PIE Li
 ve brings together an international audience of over 400 individuals\, rep
 resenting over 16 countries. With more than 70 expert speakers and over 35
  innovative sponsors and exhibitors sharing their knowledge and latest ins
 ights.\nThrough our news\, analysis and intelligence\, we offer a global l
 ens into the inner workings of the sector and share the information and in
 sights you need to stay informed and succeed in your career.\nOur content 
 is curated and tailored by our editorial team\, aimed directly at professi
 onals at all stages of their careers throughout international education.\n
 Diversity is our strength. Over 25% of our attendees travel from overseas.
  Our audience attracts: higher education institutions and colleges\, Engli
 sh language schools\, vocational education and training providers\, recrui
 ters and counsellors\, as well as government representatives\, policy make
 rs\, NGO professionals and private providers.\nJoin us to hear from though
 t-leaders about what the rest of the world can learn from Australia as wel
 l as to discuss the challenges the country is facing and consider shared s
 olutions.\nConnect with new partners\, meet colleagues from around the wor
 ld and hear directly from students.\nWebsite: https://www.thepielive.com
ATTACH;FMTTYPE=image/jpeg:https://wamc1950.com/wp-content/uploads/2024/07/
 PLAP_KoalaNews2.jpg
CATEGORIES:Convention,Education
END:VEVENT
END:VCALENDAR